BEGIN:VCALENDAR
VERSION:2.0
PRODID:-//Rick &amp; Judy Bowerman - ECPv6.15.20//NONSGML v1.0//EN
CALSCALE:GREGORIAN
METHOD:PUBLISH
X-ORIGINAL-URL:https://www.rjballroom.com
X-WR-CALDESC:Events for Rick &amp; Judy Bowerman
REFRESH-INTERVAL;VALUE=DURATION:PT1H
X-Robots-Tag:noindex
X-PUBLISHED-TTL:PT1H
BEGIN:VTIMEZONE
TZID:America/New_York
BEGIN:DAYLIGHT
TZOFFSETFROM:-0500
TZOFFSETTO:-0400
TZNAME:EDT
DTSTART:20250309T070000
END:DAYLIGHT
BEGIN:STANDARD
TZOFFSETFROM:-0400
TZOFFSETTO:-0500
TZNAME:EST
DTSTART:20251102T060000
END:STANDARD
BEGIN:DAYLIGHT
TZOFFSETFROM:-0500
TZOFFSETTO:-0400
TZNAME:EDT
DTSTART:20260308T070000
END:DAYLIGHT
BEGIN:STANDARD
TZOFFSETFROM:-0400
TZOFFSETTO:-0500
TZNAME:EST
DTSTART:20261101T060000
END:STANDARD
BEGIN:DAYLIGHT
TZOFFSETFROM:-0500
TZOFFSETTO:-0400
TZNAME:EDT
DTSTART:20270314T070000
END:DAYLIGHT
BEGIN:STANDARD
TZOFFSETFROM:-0400
TZOFFSETTO:-0500
TZNAME:EST
DTSTART:20271107T060000
END:STANDARD
END:VTIMEZONE
BEGIN:VTIMEZONE
TZID:UTC
BEGIN:STANDARD
TZOFFSETFROM:+0000
TZOFFSETTO:+0000
TZNAME:UTC
DTSTART:20250101T000000
END:STANDARD
END:VTIMEZONE
BEGIN:VEVENT
DTSTART;TZID=America/New_York:20261105T190000
DTEND;TZID=America/New_York:20261105T195500
DTSTAMP:20260421T124407
CREATED:20260228T020423Z
LAST-MODIFIED:20260228T020423Z
UID:5886-1793905200-1793908500@www.rjballroom.com
SUMMARY:Intermediate West Coast Swing
DESCRIPTION:
URL:https://www.rjballroom.com/event/intermediate-rumba-8-2-2-2-2-2-2-2-2-2-2-2-2-2-2-2-2-2-2-2-2-2-2-2-2-2-2-2-2-2-2-2-2-2-2-2-2-2-2-2-2-2-2-2-2-2-2-2-2-2-2-2-2-2-2-2-2-2-2-2-2-2-2-2-2-2-2-2-2-2-2-2-2-2-2-2-2-2-3-2-2-2-2-2-2-3-2-2-2-4-6/
LOCATION:The Troy Rec\, 11 N. Market St.\, Troy\, OH\, 45373\, United States
CATEGORIES:Class Schedule
ORGANIZER;CN="Rick & Judy Bowerman":MAILTO:info@RJBallroom.com
END:VEVENT
BEGIN:VEVENT
DTSTART;VALUE=DATE:20261112
DTEND;VALUE=DATE:20261120
DTSTAMP:20260421T124407
CREATED:20260228T012002Z
LAST-MODIFIED:20260228T012002Z
UID:5872-1794441600-1795132799@www.rjballroom.com
SUMMARY:Class 2 of 3
DESCRIPTION:
URL:https://www.rjballroom.com/event/class-1-of-4-14-2-3-2-2-2-2-2-2-2-2-2-2-2-3-3-3-2-3-3-3-3-2-2-3-2-2-2-2-3-2-3-3-3-3-2-2-3-3-3-3-3-3-2-3-3-3-3-2-2-3-3-2-2-2-2-2-2-2-2-3-2-2-2-3-2-2-2-2-2-2-2-2-2-2-2-2-2-2-2-2-2-2-2-3-2-2-2-3-2-2-2-4/
LOCATION:The Troy Rec\, 11 N. Market St.\, Troy\, OH\, 45373\, United States
ORGANIZER;CN="Rick & Judy Bowerman":MAILTO:info@RJBallroom.com
END:VEVENT
BEGIN:VEVENT
DTSTART;TZID=America/New_York:20261112T180000
DTEND;TZID=America/New_York:20261112T185500
DTSTAMP:20260421T124407
CREATED:20260228T020226Z
LAST-MODIFIED:20260228T020226Z
UID:5882-1794506400-1794509700@www.rjballroom.com
SUMMARY:Beginner Foxtrot & Cha Cha
DESCRIPTION:
URL:https://www.rjballroom.com/event/beginner-foxtrot-cha-cha-7-2-2-2-2-2-2-2-2-2-2-2-2-2-2-2-2-2-2-2-2-2-2-2-2-2-2-2-2-2-2-3-2-2-2-2-2-2-2-2-2-3-2-2-2-2-2-2-2-2-2-2-2-2-2-2-2-2-2-2-2-2-2-2-2-2-2-2-2-2-3-2-2-2-2-2-2-2-2-2-2-2-2-2-2-2-4-7/
LOCATION:The Troy Rec\, 11 N. Market St.\, Troy\, OH\, 45373\, United States
CATEGORIES:Class Schedule
ORGANIZER;CN="Rick & Judy Bowerman":MAILTO:info@RJBallroom.com
END:VEVENT
BEGIN:VEVENT
DTSTART;TZID=America/New_York:20261112T190000
DTEND;TZID=America/New_York:20261112T195500
DTSTAMP:20260421T124407
CREATED:20260228T020457Z
LAST-MODIFIED:20260228T020457Z
UID:5888-1794510000-1794513300@www.rjballroom.com
SUMMARY:Intermediate West Coast Swing
DESCRIPTION:
URL:https://www.rjballroom.com/event/intermediate-rumba-8-2-2-2-2-2-2-2-2-2-2-2-2-2-2-2-2-2-2-2-2-2-2-2-2-2-2-2-2-2-2-2-2-2-2-2-2-2-2-2-2-2-2-2-2-2-2-2-2-2-2-2-2-2-2-2-2-2-2-2-2-2-2-2-2-2-2-2-2-2-2-2-2-2-2-2-2-2-3-2-2-2-2-2-2-3-2-2-2-4-7/
LOCATION:The Troy Rec\, 11 N. Market St.\, Troy\, OH\, 45373\, United States
CATEGORIES:Class Schedule
ORGANIZER;CN="Rick & Judy Bowerman":MAILTO:info@RJBallroom.com
END:VEVENT
BEGIN:VEVENT
DTSTART;TZID=America/New_York:20261113T193000
DTEND;TZID=America/New_York:20261113T220000
DTSTAMP:20260421T124407
CREATED:20260228T012134Z
LAST-MODIFIED:20260228T012134Z
UID:5876-1794598200-1794607200@www.rjballroom.com
SUMMARY:Dance open to the public
DESCRIPTION:
URL:https://www.rjballroom.com/event/public-dance-2-2-2-2-2-2-2-2-2-2-2-2-2-2-2-2-2-2-2-2-2-3-2-2-2-2-2-2-2-2-2-2-2-2-2-2-2-2-2-2-2-2-2-2-2-2-2-2-2-2-2-2-2-2-2-2-2-2-2-2-2-2-2-2-2-2-3-3-2-2-2-2-2-2-2-2-2-2-2-2-2-2-2-2-2-2-2-2-2-2-2-2-1-2/
LOCATION:The Troy Rec\, 11 N. Market St.\, Troy\, OH\, 45373\, United States
ORGANIZER;CN="Rick & Judy Bowerman":MAILTO:info@RJBallroom.com
END:VEVENT
BEGIN:VEVENT
DTSTART;VALUE=DATE:20261119
DTEND;VALUE=DATE:20261127
DTSTAMP:20260421T124407
CREATED:20260228T012043Z
LAST-MODIFIED:20260228T012043Z
UID:5874-1795046400-1795737599@www.rjballroom.com
SUMMARY:Class 3 of 3
DESCRIPTION:
URL:https://www.rjballroom.com/event/class-1-of-4-14-2-3-2-2-2-2-2-2-2-2-2-2-2-3-3-3-2-3-3-3-3-2-2-3-2-2-2-2-3-2-3-3-3-3-2-2-3-3-3-3-3-3-2-3-3-3-3-2-2-3-3-2-2-2-2-2-2-2-2-3-2-2-2-3-2-2-2-2-2-2-2-2-2-2-2-2-2-2-2-2-2-2-2-3-2-2-2-3-2-2-2-5/
LOCATION:The Troy Rec\, 11 N. Market St.\, Troy\, OH\, 45373\, United States
ORGANIZER;CN="Rick & Judy Bowerman":MAILTO:info@RJBallroom.com
END:VEVENT
BEGIN:VEVENT
DTSTART;TZID=America/New_York:20261119T180000
DTEND;TZID=America/New_York:20261119T185500
DTSTAMP:20260421T124407
CREATED:20260228T020259Z
LAST-MODIFIED:20260228T020259Z
UID:5884-1795111200-1795114500@www.rjballroom.com
SUMMARY:Beginner Foxtrot & Cha Cha
DESCRIPTION:
URL:https://www.rjballroom.com/event/beginner-foxtrot-cha-cha-7-2-2-2-2-2-2-2-2-2-2-2-2-2-2-2-2-2-2-2-2-2-2-2-2-2-2-2-2-2-2-3-2-2-2-2-2-2-2-2-2-3-2-2-2-2-2-2-2-2-2-2-2-2-2-2-2-2-2-2-2-2-2-2-2-2-2-2-2-2-3-2-2-2-2-2-2-2-2-2-2-2-2-2-2-2-4-8/
LOCATION:The Troy Rec\, 11 N. Market St.\, Troy\, OH\, 45373\, United States
CATEGORIES:Class Schedule
ORGANIZER;CN="Rick & Judy Bowerman":MAILTO:info@RJBallroom.com
END:VEVENT
BEGIN:VEVENT
DTSTART;TZID=America/New_York:20261119T190000
DTEND;TZID=America/New_York:20261119T195500
DTSTAMP:20260421T124407
CREATED:20260228T020528Z
LAST-MODIFIED:20260228T020528Z
UID:5890-1795114800-1795118100@www.rjballroom.com
SUMMARY:Intermediate West Coast Swing
DESCRIPTION:
URL:https://www.rjballroom.com/event/intermediate-rumba-8-2-2-2-2-2-2-2-2-2-2-2-2-2-2-2-2-2-2-2-2-2-2-2-2-2-2-2-2-2-2-2-2-2-2-2-2-2-2-2-2-2-2-2-2-2-2-2-2-2-2-2-2-2-2-2-2-2-2-2-2-2-2-2-2-2-2-2-2-2-2-2-2-2-2-2-2-2-3-2-2-2-2-2-2-3-2-2-2-4-8/
LOCATION:The Troy Rec\, 11 N. Market St.\, Troy\, OH\, 45373\, United States
CATEGORIES:Class Schedule
ORGANIZER;CN="Rick & Judy Bowerman":MAILTO:info@RJBallroom.com
END:VEVENT
BEGIN:VEVENT
DTSTART;VALUE=DATE:20261123
DTEND;VALUE=DATE:20261124
DTSTAMP:20260421T124407
CREATED:20260228T020752Z
LAST-MODIFIED:20260228T020752Z
UID:5892-1795392000-1795478399@www.rjballroom.com
SUMMARY:Classes will resume January 7
DESCRIPTION:
URL:https://www.rjballroom.com/event/class-1-of-4-14-2-3-2-2-2-2-2-2-2-2-2-2-2-3-3-3-2-3-3-3-3-2-2-3-2-2-2-2-3-2-3-3-3-3-2-2-3-3-3-3-3-3-2-3-3-3-3-2-2-3-3-2-2-2-2-2-2-2-2-3-2-2-2-3-2-2-2-2-2-2-2-2-2-2-2-2-2-2-2-2-2-2-2-3-2-2-2-3-2-2-2-6/
LOCATION:The Troy Rec\, 11 N. Market St.\, Troy\, OH\, 45373\, United States
ORGANIZER;CN="Rick & Judy Bowerman":MAILTO:info@RJBallroom.com
END:VEVENT
BEGIN:VEVENT
DTSTART;TZID=America/New_York:20261212T193000
DTEND;TZID=America/New_York:20261212T220000
DTSTAMP:20260421T124407
CREATED:20260228T012211Z
LAST-MODIFIED:20260228T012211Z
UID:5878-1797103800-1797112800@www.rjballroom.com
SUMMARY:Dance open to the public
DESCRIPTION:
URL:https://www.rjballroom.com/event/public-dance-2-2-2-2-2-2-2-2-2-2-2-2-2-2-2-2-2-2-2-2-2-3-2-2-2-2-2-2-2-2-2-2-2-2-2-2-2-2-2-2-2-2-2-2-2-2-2-2-2-2-2-2-2-2-2-2-2-2-2-2-2-2-2-2-2-2-3-3-2-2-2-2-2-2-2-2-2-2-2-2-2-2-2-2-2-2-2-2-2-2-2-2-1-3/
LOCATION:The Troy Rec\, 11 N. Market St.\, Troy\, OH\, 45373\, United States
ORGANIZER;CN="Rick & Judy Bowerman":MAILTO:info@RJBallroom.com
END:VEVENT
END:VCALENDAR