BEGIN:VCALENDAR
VERSION:2.0
PRODID:-//Rick &amp; Judy Bowerman - ECPv6.15.20//NONSGML v1.0//EN
CALSCALE:GREGORIAN
METHOD:PUBLISH
X-WR-CALNAME:Rick &amp; Judy Bowerman
X-ORIGINAL-URL:https://www.rjballroom.com
X-WR-CALDESC:Events for Rick &amp; Judy Bowerman
REFRESH-INTERVAL;VALUE=DURATION:PT1H
X-Robots-Tag:noindex
X-PUBLISHED-TTL:PT1H
BEGIN:VTIMEZONE
TZID:America/New_York
BEGIN:DAYLIGHT
TZOFFSETFROM:-0500
TZOFFSETTO:-0400
TZNAME:EDT
DTSTART:20250309T070000
END:DAYLIGHT
BEGIN:STANDARD
TZOFFSETFROM:-0400
TZOFFSETTO:-0500
TZNAME:EST
DTSTART:20251102T060000
END:STANDARD
BEGIN:DAYLIGHT
TZOFFSETFROM:-0500
TZOFFSETTO:-0400
TZNAME:EDT
DTSTART:20260308T070000
END:DAYLIGHT
BEGIN:STANDARD
TZOFFSETFROM:-0400
TZOFFSETTO:-0500
TZNAME:EST
DTSTART:20261101T060000
END:STANDARD
BEGIN:DAYLIGHT
TZOFFSETFROM:-0500
TZOFFSETTO:-0400
TZNAME:EDT
DTSTART:20270314T070000
END:DAYLIGHT
BEGIN:STANDARD
TZOFFSETFROM:-0400
TZOFFSETTO:-0500
TZNAME:EST
DTSTART:20271107T060000
END:STANDARD
END:VTIMEZONE
BEGIN:VTIMEZONE
TZID:UTC
BEGIN:STANDARD
TZOFFSETFROM:+0000
TZOFFSETTO:+0000
TZNAME:UTC
DTSTART:20250101T000000
END:STANDARD
END:VTIMEZONE
BEGIN:VEVENT
DTSTART;TZID=America/New_York:20260924T180000
DTEND;TZID=America/New_York:20260924T185500
DTSTAMP:20260421T105331
CREATED:20260228T004314Z
LAST-MODIFIED:20260228T004314Z
UID:5826-1790272800-1790276100@www.rjballroom.com
SUMMARY:Beginner Merengue & Slow Dance
DESCRIPTION:
URL:https://www.rjballroom.com/event/beginner-foxtrot-cha-cha-7-2-2-2-2-2-2-2-2-2-2-2-2-2-2-2-2-2-2-2-2-2-2-2-2-2-2-2-2-2-2-3-2-2-2-2-2-2-2-2-2-3-2-2-2-2-2-2-2-2-2-2-2-2-2-2-2-2-2-2-2-2-2-2-2-2-2-2-2-2-3-2-2-2-2-2-2-2-2-2-2-2-2-2-2-2-40/
LOCATION:The Troy Rec\, 11 N. Market St.\, Troy\, OH\, 45373\, United States
CATEGORIES:Class Schedule
ORGANIZER;CN="Rick & Judy Bowerman":MAILTO:info@RJBallroom.com
END:VEVENT
BEGIN:VEVENT
DTSTART;TZID=America/New_York:20260924T190000
DTEND;TZID=America/New_York:20260924T195500
DTSTAMP:20260421T105331
CREATED:20260228T004609Z
LAST-MODIFIED:20260228T004609Z
UID:5834-1790276400-1790279700@www.rjballroom.com
SUMMARY:Intermediate Nightclub Two Step
DESCRIPTION:
URL:https://www.rjballroom.com/event/intermediate-rumba-8-2-2-2-2-2-2-2-2-2-2-2-2-2-2-2-2-2-2-2-2-2-2-2-2-2-2-2-2-2-2-2-2-2-2-2-2-2-2-2-2-2-2-2-2-2-2-2-2-2-2-2-2-2-2-2-2-2-2-2-2-2-2-2-2-2-2-2-2-2-2-2-2-2-2-2-2-2-3-2-2-2-2-2-2-3-2-2-2-40/
LOCATION:The Troy Rec\, 11 N. Market St.\, Troy\, OH\, 45373\, United States
CATEGORIES:Class Schedule
ORGANIZER;CN="Rick & Judy Bowerman":MAILTO:info@RJBallroom.com
END:VEVENT
BEGIN:VEVENT
DTSTART;TZID=America/New_York:20260926T193000
DTEND;TZID=America/New_York:20260926T220000
DTSTAMP:20260421T105331
CREATED:20260228T003949Z
LAST-MODIFIED:20260228T004005Z
UID:5818-1790451000-1790460000@www.rjballroom.com
SUMMARY:Dance open to the public
DESCRIPTION:
URL:https://www.rjballroom.com/event/public-dance-2-2-2-2-2-2-2-2-2-2-2-2-2-2-2-2-2-2-2-2-2-3-2-2-2-2-2-2-2-2-2-2-2-2-2-2-2-2-2-2-2-2-2-2-2-2-2-2-2-2-2-2-2-2-2-2-2-2-2-2-2-2-2-2-2-2-3-3-2-2-2-2-2-2-2-2-2-2-2-2-2-2-2-2-2-2-2-2-2-2-2-2-2-8/
LOCATION:The Troy Rec\, 11 N. Market St.\, Troy\, OH\, 45373\, United States
ORGANIZER;CN="Rick & Judy Bowerman":MAILTO:info@RJBallroom.com
END:VEVENT
BEGIN:VEVENT
DTSTART;VALUE=DATE:20261001
DTEND;VALUE=DATE:20261009
DTSTAMP:20260421T105331
CREATED:20260228T004755Z
LAST-MODIFIED:20260228T004755Z
UID:5836-1790812800-1791503999@www.rjballroom.com
SUMMARY:Class 1 of 4
DESCRIPTION:
URL:https://www.rjballroom.com/event/class-1-of-4-14-2-3-2-2-2-2-2-2-2-2-2-2-2-3-3-3-2-3-3-3-3-2-2-3-2-2-2-2-3-2-3-3-3-3-2-2-3-3-3-3-3-3-2-3-3-3-3-2-2-3-3-2-2-2-2-2-2-2-2-3-2-2-2-3-2-2-2-2-2-2-2-2-2-2-2-2-2-2-2-2-2-2-2-3-2-2-2-3-2-2-2-83/
LOCATION:The Troy Rec\, 11 N. Market St.\, Troy\, OH\, 45373\, United States
ORGANIZER;CN="Rick & Judy Bowerman":MAILTO:info@RJBallroom.com
END:VEVENT
BEGIN:VEVENT
DTSTART;TZID=America/New_York:20261001T180000
DTEND;TZID=America/New_York:20261001T185500
DTSTAMP:20260421T105331
CREATED:20260228T010929Z
LAST-MODIFIED:20260228T010929Z
UID:5852-1790877600-1790880900@www.rjballroom.com
SUMMARY:Beginner Waltz & Swing
DESCRIPTION:
URL:https://www.rjballroom.com/event/beginner-foxtrot-cha-cha-7-2-2-2-2-2-2-2-2-2-2-2-2-2-2-2-2-2-2-2-2-2-2-2-2-2-2-2-2-2-2-3-2-2-2-2-2-2-2-2-2-3-2-2-2-2-2-2-2-2-2-2-2-2-2-2-2-2-2-2-2-2-2-2-2-2-2-2-2-2-3-2-2-2-2-2-2-2-2-2-2-2-2-2-2-2-4-2/
LOCATION:The Troy Rec\, 11 N. Market St.\, Troy\, OH\, 45373\, United States
CATEGORIES:Class Schedule
ORGANIZER;CN="Rick & Judy Bowerman":MAILTO:info@RJBallroom.com
END:VEVENT
BEGIN:VEVENT
DTSTART;TZID=America/New_York:20261001T190000
DTEND;TZID=America/New_York:20261001T195500
DTSTAMP:20260421T105331
CREATED:20260228T011510Z
LAST-MODIFIED:20260228T011510Z
UID:5862-1790881200-1790884500@www.rjballroom.com
SUMMARY:Intermediate Mambo/Salsa
DESCRIPTION:
URL:https://www.rjballroom.com/event/intermediate-rumba-8-2-2-2-2-2-2-2-2-2-2-2-2-2-2-2-2-2-2-2-2-2-2-2-2-2-2-2-2-2-2-2-2-2-2-2-2-2-2-2-2-2-2-2-2-2-2-2-2-2-2-2-2-2-2-2-2-2-2-2-2-2-2-2-2-2-2-2-2-2-2-2-2-2-2-2-2-2-3-2-2-2-2-2-2-3-2-2-2-4-2/
LOCATION:The Troy Rec\, 11 N. Market St.\, Troy\, OH\, 45373\, United States
CATEGORIES:Class Schedule
ORGANIZER;CN="Rick & Judy Bowerman":MAILTO:info@RJBallroom.com
END:VEVENT
BEGIN:VEVENT
DTSTART;VALUE=DATE:20261008
DTEND;VALUE=DATE:20261016
DTSTAMP:20260421T105331
CREATED:20260228T005055Z
LAST-MODIFIED:20260228T005055Z
UID:5843-1791417600-1792108799@www.rjballroom.com
SUMMARY:Class 2 of 4
DESCRIPTION:
URL:https://www.rjballroom.com/event/class-1-of-4-14-2-3-2-2-2-2-2-2-2-2-2-2-2-3-3-3-2-3-3-3-3-2-2-3-2-2-2-2-3-2-3-3-3-3-2-2-3-3-3-3-3-3-2-3-3-3-3-2-2-3-3-2-2-2-2-2-2-2-2-3-2-2-2-3-2-2-2-2-2-2-2-2-2-2-2-2-2-2-2-2-2-2-2-3-2-2-2-3-2-2-2-86/
LOCATION:The Troy Rec\, 11 N. Market St.\, Troy\, OH\, 45373\, United States
ORGANIZER;CN="Rick & Judy Bowerman":MAILTO:info@RJBallroom.com
END:VEVENT
BEGIN:VEVENT
DTSTART;TZID=America/New_York:20261008T180000
DTEND;TZID=America/New_York:20261008T185500
DTSTAMP:20260421T105331
CREATED:20260228T011005Z
LAST-MODIFIED:20260228T011005Z
UID:5854-1791482400-1791485700@www.rjballroom.com
SUMMARY:Beginner Waltz & Swing
DESCRIPTION:
URL:https://www.rjballroom.com/event/beginner-foxtrot-cha-cha-7-2-2-2-2-2-2-2-2-2-2-2-2-2-2-2-2-2-2-2-2-2-2-2-2-2-2-2-2-2-2-3-2-2-2-2-2-2-2-2-2-3-2-2-2-2-2-2-2-2-2-2-2-2-2-2-2-2-2-2-2-2-2-2-2-2-2-2-2-2-3-2-2-2-2-2-2-2-2-2-2-2-2-2-2-2-4-3/
LOCATION:The Troy Rec\, 11 N. Market St.\, Troy\, OH\, 45373\, United States
CATEGORIES:Class Schedule
ORGANIZER;CN="Rick & Judy Bowerman":MAILTO:info@RJBallroom.com
END:VEVENT
BEGIN:VEVENT
DTSTART;TZID=America/New_York:20261008T190000
DTEND;TZID=America/New_York:20261008T195500
DTSTAMP:20260421T105331
CREATED:20260228T011549Z
LAST-MODIFIED:20260228T011549Z
UID:5864-1791486000-1791489300@www.rjballroom.com
SUMMARY:Intermediate Mambo/Salsa
DESCRIPTION:
URL:https://www.rjballroom.com/event/intermediate-rumba-8-2-2-2-2-2-2-2-2-2-2-2-2-2-2-2-2-2-2-2-2-2-2-2-2-2-2-2-2-2-2-2-2-2-2-2-2-2-2-2-2-2-2-2-2-2-2-2-2-2-2-2-2-2-2-2-2-2-2-2-2-2-2-2-2-2-2-2-2-2-2-2-2-2-2-2-2-2-3-2-2-2-2-2-2-3-2-2-2-4-3/
LOCATION:The Troy Rec\, 11 N. Market St.\, Troy\, OH\, 45373\, United States
CATEGORIES:Class Schedule
ORGANIZER;CN="Rick & Judy Bowerman":MAILTO:info@RJBallroom.com
END:VEVENT
BEGIN:VEVENT
DTSTART;TZID=America/New_York:20261009T193000
DTEND;TZID=America/New_York:20261009T220000
DTSTAMP:20260421T105331
CREATED:20260228T005228Z
LAST-MODIFIED:20260228T005228Z
UID:5845-1791574200-1791583200@www.rjballroom.com
SUMMARY:Dance open to the public
DESCRIPTION:
URL:https://www.rjballroom.com/event/public-dance-2-2-2-2-2-2-2-2-2-2-2-2-2-2-2-2-2-2-2-2-2-3-2-2-2-2-2-2-2-2-2-2-2-2-2-2-2-2-2-2-2-2-2-2-2-2-2-2-2-2-2-2-2-2-2-2-2-2-2-2-2-2-2-2-2-2-3-3-2-2-2-2-2-2-2-2-2-2-2-2-2-2-2-2-2-2-2-2-2-2-2-2-2-9/
LOCATION:The Troy Rec\, 11 N. Market St.\, Troy\, OH\, 45373\, United States
ORGANIZER;CN="Rick & Judy Bowerman":MAILTO:info@RJBallroom.com
END:VEVENT
BEGIN:VEVENT
DTSTART;VALUE=DATE:20261015
DTEND;VALUE=DATE:20261023
DTSTAMP:20260421T105331
CREATED:20260228T004834Z
LAST-MODIFIED:20260228T004904Z
UID:5838-1792022400-1792713599@www.rjballroom.com
SUMMARY:Class 3 of 4
DESCRIPTION:
URL:https://www.rjballroom.com/event/class-1-of-4-14-2-3-2-2-2-2-2-2-2-2-2-2-2-3-3-3-2-3-3-3-3-2-2-3-2-2-2-2-3-2-3-3-3-3-2-2-3-3-3-3-3-3-2-3-3-3-3-2-2-3-3-2-2-2-2-2-2-2-2-3-2-2-2-3-2-2-2-2-2-2-2-2-2-2-2-2-2-2-2-2-2-2-2-3-2-2-2-3-2-2-2-84/
LOCATION:The Troy Rec\, 11 N. Market St.\, Troy\, OH\, 45373\, United States
ORGANIZER;CN="Rick & Judy Bowerman":MAILTO:info@RJBallroom.com
END:VEVENT
BEGIN:VEVENT
DTSTART;TZID=America/New_York:20261015T180000
DTEND;TZID=America/New_York:20261015T185500
DTSTAMP:20260421T105331
CREATED:20260228T011037Z
LAST-MODIFIED:20260228T011037Z
UID:5856-1792087200-1792090500@www.rjballroom.com
SUMMARY:Beginner Waltz & Swing
DESCRIPTION:
URL:https://www.rjballroom.com/event/beginner-foxtrot-cha-cha-7-2-2-2-2-2-2-2-2-2-2-2-2-2-2-2-2-2-2-2-2-2-2-2-2-2-2-2-2-2-2-3-2-2-2-2-2-2-2-2-2-3-2-2-2-2-2-2-2-2-2-2-2-2-2-2-2-2-2-2-2-2-2-2-2-2-2-2-2-2-3-2-2-2-2-2-2-2-2-2-2-2-2-2-2-2-4-4/
LOCATION:The Troy Rec\, 11 N. Market St.\, Troy\, OH\, 45373\, United States
CATEGORIES:Class Schedule
ORGANIZER;CN="Rick & Judy Bowerman":MAILTO:info@RJBallroom.com
END:VEVENT
BEGIN:VEVENT
DTSTART;TZID=America/New_York:20261015T190000
DTEND;TZID=America/New_York:20261015T195500
DTSTAMP:20260421T105331
CREATED:20260228T011625Z
LAST-MODIFIED:20260228T011625Z
UID:5866-1792090800-1792094100@www.rjballroom.com
SUMMARY:Intermediate Mambo/Salsa
DESCRIPTION:
URL:https://www.rjballroom.com/event/intermediate-rumba-8-2-2-2-2-2-2-2-2-2-2-2-2-2-2-2-2-2-2-2-2-2-2-2-2-2-2-2-2-2-2-2-2-2-2-2-2-2-2-2-2-2-2-2-2-2-2-2-2-2-2-2-2-2-2-2-2-2-2-2-2-2-2-2-2-2-2-2-2-2-2-2-2-2-2-2-2-2-3-2-2-2-2-2-2-3-2-2-2-4-4/
LOCATION:The Troy Rec\, 11 N. Market St.\, Troy\, OH\, 45373\, United States
CATEGORIES:Class Schedule
ORGANIZER;CN="Rick & Judy Bowerman":MAILTO:info@RJBallroom.com
END:VEVENT
BEGIN:VEVENT
DTSTART;VALUE=DATE:20261022
DTEND;VALUE=DATE:20261030
DTSTAMP:20260421T105331
CREATED:20260228T004946Z
LAST-MODIFIED:20260228T004946Z
UID:5841-1792627200-1793318399@www.rjballroom.com
SUMMARY:Class 4 of 4
DESCRIPTION:
URL:https://www.rjballroom.com/event/class-1-of-4-14-2-3-2-2-2-2-2-2-2-2-2-2-2-3-3-3-2-3-3-3-3-2-2-3-2-2-2-2-3-2-3-3-3-3-2-2-3-3-3-3-3-3-2-3-3-3-3-2-2-3-3-2-2-2-2-2-2-2-2-3-2-2-2-3-2-2-2-2-2-2-2-2-2-2-2-2-2-2-2-2-2-2-2-3-2-2-2-3-2-2-2-85/
LOCATION:The Troy Rec\, 11 N. Market St.\, Troy\, OH\, 45373\, United States
ORGANIZER;CN="Rick & Judy Bowerman":MAILTO:info@RJBallroom.com
END:VEVENT
BEGIN:VEVENT
DTSTART;TZID=America/New_York:20261022T180000
DTEND;TZID=America/New_York:20261022T185500
DTSTAMP:20260421T105331
CREATED:20260228T011110Z
LAST-MODIFIED:20260228T011110Z
UID:5858-1792692000-1792695300@www.rjballroom.com
SUMMARY:Beginner Waltz & Swing
DESCRIPTION:
URL:https://www.rjballroom.com/event/beginner-foxtrot-cha-cha-7-2-2-2-2-2-2-2-2-2-2-2-2-2-2-2-2-2-2-2-2-2-2-2-2-2-2-2-2-2-2-3-2-2-2-2-2-2-2-2-2-3-2-2-2-2-2-2-2-2-2-2-2-2-2-2-2-2-2-2-2-2-2-2-2-2-2-2-2-2-3-2-2-2-2-2-2-2-2-2-2-2-2-2-2-2-4-5/
LOCATION:The Troy Rec\, 11 N. Market St.\, Troy\, OH\, 45373\, United States
CATEGORIES:Class Schedule
ORGANIZER;CN="Rick & Judy Bowerman":MAILTO:info@RJBallroom.com
END:VEVENT
BEGIN:VEVENT
DTSTART;TZID=America/New_York:20261022T190000
DTEND;TZID=America/New_York:20261022T195500
DTSTAMP:20260421T105331
CREATED:20260228T011657Z
LAST-MODIFIED:20260228T011657Z
UID:5868-1792695600-1792698900@www.rjballroom.com
SUMMARY:Intermediate Mambo/Salsa
DESCRIPTION:
URL:https://www.rjballroom.com/event/intermediate-rumba-8-2-2-2-2-2-2-2-2-2-2-2-2-2-2-2-2-2-2-2-2-2-2-2-2-2-2-2-2-2-2-2-2-2-2-2-2-2-2-2-2-2-2-2-2-2-2-2-2-2-2-2-2-2-2-2-2-2-2-2-2-2-2-2-2-2-2-2-2-2-2-2-2-2-2-2-2-2-3-2-2-2-2-2-2-3-2-2-2-4-5/
LOCATION:The Troy Rec\, 11 N. Market St.\, Troy\, OH\, 45373\, United States
CATEGORIES:Class Schedule
ORGANIZER;CN="Rick & Judy Bowerman":MAILTO:info@RJBallroom.com
END:VEVENT
BEGIN:VEVENT
DTSTART;TZID=America/New_York:20261024T193000
DTEND;TZID=America/New_York:20261024T220000
DTSTAMP:20260421T105331
CREATED:20260228T005259Z
LAST-MODIFIED:20260228T005259Z
UID:5847-1792870200-1792879200@www.rjballroom.com
SUMMARY:Dance open to the public
DESCRIPTION:
URL:https://www.rjballroom.com/event/public-dance-2-2-2-2-2-2-2-2-2-2-2-2-2-2-2-2-2-2-2-2-2-3-2-2-2-2-2-2-2-2-2-2-2-2-2-2-2-2-2-2-2-2-2-2-2-2-2-2-2-2-2-2-2-2-2-2-2-2-2-2-2-2-2-2-2-2-3-3-2-2-2-2-2-2-2-2-2-2-2-2-2-2-2-2-2-2-2-2-2-2-2-2-10/
LOCATION:The Troy Rec\, 11 N. Market St.\, Troy\, OH\, 45373\, United States
ORGANIZER;CN="Rick & Judy Bowerman":MAILTO:info@RJBallroom.com
END:VEVENT
BEGIN:VEVENT
DTSTART;VALUE=DATE:20261026
DTEND;VALUE=DATE:20261027
DTSTAMP:20260421T105331
CREATED:20260228T011332Z
LAST-MODIFIED:20260228T011332Z
UID:5851-1792972800-1793059199@www.rjballroom.com
SUMMARY:No classes this week
DESCRIPTION:
URL:https://www.rjballroom.com/event/class-1-of-4-14-2-3-2-2-2-2-2-2-2-2-2-2-2-3-3-3-2-3-3-3-3-2-2-3-2-2-2-2-3-2-3-3-3-3-2-2-3-3-3-3-3-3-2-3-3-3-3-2-2-3-3-2-2-2-2-2-2-2-2-3-2-2-2-3-2-2-2-2-2-2-2-2-2-2-2-2-2-2-2-2-2-2-2-3-2-2-2-3-2-2-2-2/
LOCATION:The Troy Rec\, 11 N. Market St.\, Troy\, OH\, 45373\, United States
ORGANIZER;CN="Rick & Judy Bowerman":MAILTO:info@RJBallroom.com
END:VEVENT
BEGIN:VEVENT
DTSTART;VALUE=DATE:20261105
DTEND;VALUE=DATE:20261113
DTSTAMP:20260421T105331
CREATED:20260228T011927Z
LAST-MODIFIED:20260228T011927Z
UID:5870-1793836800-1794527999@www.rjballroom.com
SUMMARY:Class 1 of 3
DESCRIPTION:
URL:https://www.rjballroom.com/event/class-1-of-4-14-2-3-2-2-2-2-2-2-2-2-2-2-2-3-3-3-2-3-3-3-3-2-2-3-2-2-2-2-3-2-3-3-3-3-2-2-3-3-3-3-3-3-2-3-3-3-3-2-2-3-3-2-2-2-2-2-2-2-2-3-2-2-2-3-2-2-2-2-2-2-2-2-2-2-2-2-2-2-2-2-2-2-2-3-2-2-2-3-2-2-2-3/
LOCATION:The Troy Rec\, 11 N. Market St.\, Troy\, OH\, 45373\, United States
ORGANIZER;CN="Rick & Judy Bowerman":MAILTO:info@RJBallroom.com
END:VEVENT
BEGIN:VEVENT
DTSTART;TZID=America/New_York:20261105T180000
DTEND;TZID=America/New_York:20261105T185500
DTSTAMP:20260421T105331
CREATED:20260228T020152Z
LAST-MODIFIED:20260228T020152Z
UID:5880-1793901600-1793904900@www.rjballroom.com
SUMMARY:Beginner Foxtrot & Cha Cha
DESCRIPTION:
URL:https://www.rjballroom.com/event/beginner-foxtrot-cha-cha-7-2-2-2-2-2-2-2-2-2-2-2-2-2-2-2-2-2-2-2-2-2-2-2-2-2-2-2-2-2-2-3-2-2-2-2-2-2-2-2-2-3-2-2-2-2-2-2-2-2-2-2-2-2-2-2-2-2-2-2-2-2-2-2-2-2-2-2-2-2-3-2-2-2-2-2-2-2-2-2-2-2-2-2-2-2-4-6/
LOCATION:The Troy Rec\, 11 N. Market St.\, Troy\, OH\, 45373\, United States
CATEGORIES:Class Schedule
ORGANIZER;CN="Rick & Judy Bowerman":MAILTO:info@RJBallroom.com
END:VEVENT
BEGIN:VEVENT
DTSTART;TZID=America/New_York:20261105T190000
DTEND;TZID=America/New_York:20261105T195500
DTSTAMP:20260421T105331
CREATED:20260228T020423Z
LAST-MODIFIED:20260228T020423Z
UID:5886-1793905200-1793908500@www.rjballroom.com
SUMMARY:Intermediate West Coast Swing
DESCRIPTION:
URL:https://www.rjballroom.com/event/intermediate-rumba-8-2-2-2-2-2-2-2-2-2-2-2-2-2-2-2-2-2-2-2-2-2-2-2-2-2-2-2-2-2-2-2-2-2-2-2-2-2-2-2-2-2-2-2-2-2-2-2-2-2-2-2-2-2-2-2-2-2-2-2-2-2-2-2-2-2-2-2-2-2-2-2-2-2-2-2-2-2-3-2-2-2-2-2-2-3-2-2-2-4-6/
LOCATION:The Troy Rec\, 11 N. Market St.\, Troy\, OH\, 45373\, United States
CATEGORIES:Class Schedule
ORGANIZER;CN="Rick & Judy Bowerman":MAILTO:info@RJBallroom.com
END:VEVENT
BEGIN:VEVENT
DTSTART;VALUE=DATE:20261112
DTEND;VALUE=DATE:20261120
DTSTAMP:20260421T105331
CREATED:20260228T012002Z
LAST-MODIFIED:20260228T012002Z
UID:5872-1794441600-1795132799@www.rjballroom.com
SUMMARY:Class 2 of 3
DESCRIPTION:
URL:https://www.rjballroom.com/event/class-1-of-4-14-2-3-2-2-2-2-2-2-2-2-2-2-2-3-3-3-2-3-3-3-3-2-2-3-2-2-2-2-3-2-3-3-3-3-2-2-3-3-3-3-3-3-2-3-3-3-3-2-2-3-3-2-2-2-2-2-2-2-2-3-2-2-2-3-2-2-2-2-2-2-2-2-2-2-2-2-2-2-2-2-2-2-2-3-2-2-2-3-2-2-2-4/
LOCATION:The Troy Rec\, 11 N. Market St.\, Troy\, OH\, 45373\, United States
ORGANIZER;CN="Rick & Judy Bowerman":MAILTO:info@RJBallroom.com
END:VEVENT
BEGIN:VEVENT
DTSTART;TZID=America/New_York:20261112T180000
DTEND;TZID=America/New_York:20261112T185500
DTSTAMP:20260421T105331
CREATED:20260228T020226Z
LAST-MODIFIED:20260228T020226Z
UID:5882-1794506400-1794509700@www.rjballroom.com
SUMMARY:Beginner Foxtrot & Cha Cha
DESCRIPTION:
URL:https://www.rjballroom.com/event/beginner-foxtrot-cha-cha-7-2-2-2-2-2-2-2-2-2-2-2-2-2-2-2-2-2-2-2-2-2-2-2-2-2-2-2-2-2-2-3-2-2-2-2-2-2-2-2-2-3-2-2-2-2-2-2-2-2-2-2-2-2-2-2-2-2-2-2-2-2-2-2-2-2-2-2-2-2-3-2-2-2-2-2-2-2-2-2-2-2-2-2-2-2-4-7/
LOCATION:The Troy Rec\, 11 N. Market St.\, Troy\, OH\, 45373\, United States
CATEGORIES:Class Schedule
ORGANIZER;CN="Rick & Judy Bowerman":MAILTO:info@RJBallroom.com
END:VEVENT
BEGIN:VEVENT
DTSTART;TZID=America/New_York:20261112T190000
DTEND;TZID=America/New_York:20261112T195500
DTSTAMP:20260421T105331
CREATED:20260228T020457Z
LAST-MODIFIED:20260228T020457Z
UID:5888-1794510000-1794513300@www.rjballroom.com
SUMMARY:Intermediate West Coast Swing
DESCRIPTION:
URL:https://www.rjballroom.com/event/intermediate-rumba-8-2-2-2-2-2-2-2-2-2-2-2-2-2-2-2-2-2-2-2-2-2-2-2-2-2-2-2-2-2-2-2-2-2-2-2-2-2-2-2-2-2-2-2-2-2-2-2-2-2-2-2-2-2-2-2-2-2-2-2-2-2-2-2-2-2-2-2-2-2-2-2-2-2-2-2-2-2-3-2-2-2-2-2-2-3-2-2-2-4-7/
LOCATION:The Troy Rec\, 11 N. Market St.\, Troy\, OH\, 45373\, United States
CATEGORIES:Class Schedule
ORGANIZER;CN="Rick & Judy Bowerman":MAILTO:info@RJBallroom.com
END:VEVENT
BEGIN:VEVENT
DTSTART;TZID=America/New_York:20261113T193000
DTEND;TZID=America/New_York:20261113T220000
DTSTAMP:20260421T105331
CREATED:20260228T012134Z
LAST-MODIFIED:20260228T012134Z
UID:5876-1794598200-1794607200@www.rjballroom.com
SUMMARY:Dance open to the public
DESCRIPTION:
URL:https://www.rjballroom.com/event/public-dance-2-2-2-2-2-2-2-2-2-2-2-2-2-2-2-2-2-2-2-2-2-3-2-2-2-2-2-2-2-2-2-2-2-2-2-2-2-2-2-2-2-2-2-2-2-2-2-2-2-2-2-2-2-2-2-2-2-2-2-2-2-2-2-2-2-2-3-3-2-2-2-2-2-2-2-2-2-2-2-2-2-2-2-2-2-2-2-2-2-2-2-2-1-2/
LOCATION:The Troy Rec\, 11 N. Market St.\, Troy\, OH\, 45373\, United States
ORGANIZER;CN="Rick & Judy Bowerman":MAILTO:info@RJBallroom.com
END:VEVENT
BEGIN:VEVENT
DTSTART;VALUE=DATE:20261119
DTEND;VALUE=DATE:20261127
DTSTAMP:20260421T105331
CREATED:20260228T012043Z
LAST-MODIFIED:20260228T012043Z
UID:5874-1795046400-1795737599@www.rjballroom.com
SUMMARY:Class 3 of 3
DESCRIPTION:
URL:https://www.rjballroom.com/event/class-1-of-4-14-2-3-2-2-2-2-2-2-2-2-2-2-2-3-3-3-2-3-3-3-3-2-2-3-2-2-2-2-3-2-3-3-3-3-2-2-3-3-3-3-3-3-2-3-3-3-3-2-2-3-3-2-2-2-2-2-2-2-2-3-2-2-2-3-2-2-2-2-2-2-2-2-2-2-2-2-2-2-2-2-2-2-2-3-2-2-2-3-2-2-2-5/
LOCATION:The Troy Rec\, 11 N. Market St.\, Troy\, OH\, 45373\, United States
ORGANIZER;CN="Rick & Judy Bowerman":MAILTO:info@RJBallroom.com
END:VEVENT
BEGIN:VEVENT
DTSTART;TZID=America/New_York:20261119T180000
DTEND;TZID=America/New_York:20261119T185500
DTSTAMP:20260421T105331
CREATED:20260228T020259Z
LAST-MODIFIED:20260228T020259Z
UID:5884-1795111200-1795114500@www.rjballroom.com
SUMMARY:Beginner Foxtrot & Cha Cha
DESCRIPTION:
URL:https://www.rjballroom.com/event/beginner-foxtrot-cha-cha-7-2-2-2-2-2-2-2-2-2-2-2-2-2-2-2-2-2-2-2-2-2-2-2-2-2-2-2-2-2-2-3-2-2-2-2-2-2-2-2-2-3-2-2-2-2-2-2-2-2-2-2-2-2-2-2-2-2-2-2-2-2-2-2-2-2-2-2-2-2-3-2-2-2-2-2-2-2-2-2-2-2-2-2-2-2-4-8/
LOCATION:The Troy Rec\, 11 N. Market St.\, Troy\, OH\, 45373\, United States
CATEGORIES:Class Schedule
ORGANIZER;CN="Rick & Judy Bowerman":MAILTO:info@RJBallroom.com
END:VEVENT
BEGIN:VEVENT
DTSTART;TZID=America/New_York:20261119T190000
DTEND;TZID=America/New_York:20261119T195500
DTSTAMP:20260421T105331
CREATED:20260228T020528Z
LAST-MODIFIED:20260228T020528Z
UID:5890-1795114800-1795118100@www.rjballroom.com
SUMMARY:Intermediate West Coast Swing
DESCRIPTION:
URL:https://www.rjballroom.com/event/intermediate-rumba-8-2-2-2-2-2-2-2-2-2-2-2-2-2-2-2-2-2-2-2-2-2-2-2-2-2-2-2-2-2-2-2-2-2-2-2-2-2-2-2-2-2-2-2-2-2-2-2-2-2-2-2-2-2-2-2-2-2-2-2-2-2-2-2-2-2-2-2-2-2-2-2-2-2-2-2-2-2-3-2-2-2-2-2-2-3-2-2-2-4-8/
LOCATION:The Troy Rec\, 11 N. Market St.\, Troy\, OH\, 45373\, United States
CATEGORIES:Class Schedule
ORGANIZER;CN="Rick & Judy Bowerman":MAILTO:info@RJBallroom.com
END:VEVENT
BEGIN:VEVENT
DTSTART;VALUE=DATE:20261123
DTEND;VALUE=DATE:20261124
DTSTAMP:20260421T105331
CREATED:20260228T020752Z
LAST-MODIFIED:20260228T020752Z
UID:5892-1795392000-1795478399@www.rjballroom.com
SUMMARY:Classes will resume January 7
DESCRIPTION:
URL:https://www.rjballroom.com/event/class-1-of-4-14-2-3-2-2-2-2-2-2-2-2-2-2-2-3-3-3-2-3-3-3-3-2-2-3-2-2-2-2-3-2-3-3-3-3-2-2-3-3-3-3-3-3-2-3-3-3-3-2-2-3-3-2-2-2-2-2-2-2-2-3-2-2-2-3-2-2-2-2-2-2-2-2-2-2-2-2-2-2-2-2-2-2-2-3-2-2-2-3-2-2-2-6/
LOCATION:The Troy Rec\, 11 N. Market St.\, Troy\, OH\, 45373\, United States
ORGANIZER;CN="Rick & Judy Bowerman":MAILTO:info@RJBallroom.com
END:VEVENT
BEGIN:VEVENT
DTSTART;TZID=America/New_York:20261212T193000
DTEND;TZID=America/New_York:20261212T220000
DTSTAMP:20260421T105331
CREATED:20260228T012211Z
LAST-MODIFIED:20260228T012211Z
UID:5878-1797103800-1797112800@www.rjballroom.com
SUMMARY:Dance open to the public
DESCRIPTION:
URL:https://www.rjballroom.com/event/public-dance-2-2-2-2-2-2-2-2-2-2-2-2-2-2-2-2-2-2-2-2-2-3-2-2-2-2-2-2-2-2-2-2-2-2-2-2-2-2-2-2-2-2-2-2-2-2-2-2-2-2-2-2-2-2-2-2-2-2-2-2-2-2-2-2-2-2-3-3-2-2-2-2-2-2-2-2-2-2-2-2-2-2-2-2-2-2-2-2-2-2-2-2-1-3/
LOCATION:The Troy Rec\, 11 N. Market St.\, Troy\, OH\, 45373\, United States
ORGANIZER;CN="Rick & Judy Bowerman":MAILTO:info@RJBallroom.com
END:VEVENT
END:VCALENDAR